BEGIN:VCALENDAR
VERSION:2.0
PRODID:-//Palm Beach Roadrunners - ECPv6.15.12.2//NONSGML v1.0//EN
CALSCALE:GREGORIAN
METHOD:PUBLISH
X-WR-CALNAME:Palm Beach Roadrunners
X-ORIGINAL-URL:http://palmbeachroadrunners.com
X-WR-CALDESC:Events for Palm Beach Roadrunners
REFRESH-INTERVAL;VALUE=DURATION:PT1H
X-Robots-Tag:noindex
X-PUBLISHED-TTL:PT1H
BEGIN:VTIMEZONE
TZID:America/New_York
BEGIN:DAYLIGHT
TZOFFSETFROM:-0500
TZOFFSETTO:-0400
TZNAME:EDT
DTSTART:20240310T070000
END:DAYLIGHT
BEGIN:STANDARD
TZOFFSETFROM:-0400
TZOFFSETTO:-0500
TZNAME:EST
DTSTART:20241103T060000
END:STANDARD
BEGIN:DAYLIGHT
TZOFFSETFROM:-0500
TZOFFSETTO:-0400
TZNAME:EDT
DTSTART:20250309T070000
END:DAYLIGHT
BEGIN:STANDARD
TZOFFSETFROM:-0400
TZOFFSETTO:-0500
TZNAME:EST
DTSTART:20251102T060000
END:STANDARD
BEGIN:DAYLIGHT
TZOFFSETFROM:-0500
TZOFFSETTO:-0400
TZNAME:EDT
DTSTART:20260308T070000
END:DAYLIGHT
BEGIN:STANDARD
TZOFFSETFROM:-0400
TZOFFSETTO:-0500
TZNAME:EST
DTSTART:20261101T060000
END:STANDARD
END:VTIMEZONE
BEGIN:VEVENT
DTSTART;TZID=America/New_York:20250908T183000
DTEND;TZID=America/New_York:20250908T200000
DTSTAMP:20260425T072715
CREATED:20250812T191237Z
LAST-MODIFIED:20250812T191237Z
UID:203026-1757356200-1757361600@palmbeachroadrunners.com
SUMMARY:PBRR Monthly Board Meeting
DESCRIPTION:September Board Meeting
URL:http://palmbeachroadrunners.com/event/pbrr-monthly-board-meeting/
LOCATION:Guthart Electric\, 1125 Old Dixie Hwy Ste 6\, Lake Park\, FL\, 33403\, United States
END:VEVENT
END:VCALENDAR