BEGIN:VCALENDAR
VERSION:2.0
PRODID:-//Palm Beach Roadrunners - ECPv6.15.12.2//NONSGML v1.0//EN
CALSCALE:GREGORIAN
METHOD:PUBLISH
X-ORIGINAL-URL:http://palmbeachroadrunners.com
X-WR-CALDESC:Events for Palm Beach Roadrunners
REFRESH-INTERVAL;VALUE=DURATION:PT1H
X-Robots-Tag:noindex
X-PUBLISHED-TTL:PT1H
BEGIN:VTIMEZONE
TZID:America/New_York
BEGIN:DAYLIGHT
TZOFFSETFROM:-0500
TZOFFSETTO:-0400
TZNAME:EDT
DTSTART:20240310T070000
END:DAYLIGHT
BEGIN:STANDARD
TZOFFSETFROM:-0400
TZOFFSETTO:-0500
TZNAME:EST
DTSTART:20241103T060000
END:STANDARD
BEGIN:DAYLIGHT
TZOFFSETFROM:-0500
TZOFFSETTO:-0400
TZNAME:EDT
DTSTART:20250309T070000
END:DAYLIGHT
BEGIN:STANDARD
TZOFFSETFROM:-0400
TZOFFSETTO:-0500
TZNAME:EST
DTSTART:20251102T060000
END:STANDARD
BEGIN:DAYLIGHT
TZOFFSETFROM:-0500
TZOFFSETTO:-0400
TZNAME:EDT
DTSTART:20260308T070000
END:DAYLIGHT
BEGIN:STANDARD
TZOFFSETFROM:-0400
TZOFFSETTO:-0500
TZNAME:EST
DTSTART:20261101T060000
END:STANDARD
END:VTIMEZONE
BEGIN:VEVENT
DTSTART;TZID=America/New_York:20250714T183000
DTEND;TZID=America/New_York:20250714T193000
DTSTAMP:20260425T104454
CREATED:20250711T200921Z
LAST-MODIFIED:20250711T200921Z
UID:203010-1752517800-1752521400@palmbeachroadrunners.com
SUMMARY:PBRR Board Meeting
DESCRIPTION:
URL:http://palmbeachroadrunners.com/event/pbrr-board-meeting/
LOCATION:Guthart Electric\, 1125 Old Dixie Hwy Ste 6\, Lake Park\, FL\, 33403\, United States
END:VEVENT
BEGIN:VEVENT
DTSTART;TZID=America/New_York:20250723T183000
DTEND;TZID=America/New_York:20250723T183000
DTSTAMP:20260425T104454
CREATED:20250611T193841Z
LAST-MODIFIED:20250611T194840Z
UID:202962-1753295400-1753295400@palmbeachroadrunners.com
SUMMARY:PBRR's Night At The Ballpark
DESCRIPTION:Let’s do that again!\n \nHey runners… We are returning to Jupiter’s Roger Dean Stadium on Wednesday\, June 23rd for a PBRR Social Outing. Tickets are $7 and we’ll all sit in a shaded section on the home team side. This game features both resident squads\, the Jupiter Hammerheads vs Palm Beach Cardinals. Game starts at 6:30 pm with a pre game meetup at DAS Beer Garden just steps from the stadium entrance. Kids and family members welcome and encouraged!
URL:http://palmbeachroadrunners.com/event/night-at-the-ballpark/
LOCATION:Roger Dean Stadium\, 4751 Main St\, Jupiter\, FL\, 33418\, United States
END:VEVENT
END:VCALENDAR