BEGIN:VCALENDAR
VERSION:2.0
PRODID:-//Palm Beach Roadrunners - ECPv6.15.12.2//NONSGML v1.0//EN
CALSCALE:GREGORIAN
METHOD:PUBLISH
X-WR-CALNAME:Palm Beach Roadrunners
X-ORIGINAL-URL:http://palmbeachroadrunners.com
X-WR-CALDESC:Events for Palm Beach Roadrunners
REFRESH-INTERVAL;VALUE=DURATION:PT1H
X-Robots-Tag:noindex
X-PUBLISHED-TTL:PT1H
BEGIN:VTIMEZONE
TZID:America/New_York
BEGIN:DAYLIGHT
TZOFFSETFROM:-0500
TZOFFSETTO:-0400
TZNAME:EDT
DTSTART:20240310T070000
END:DAYLIGHT
BEGIN:STANDARD
TZOFFSETFROM:-0400
TZOFFSETTO:-0500
TZNAME:EST
DTSTART:20241103T060000
END:STANDARD
BEGIN:DAYLIGHT
TZOFFSETFROM:-0500
TZOFFSETTO:-0400
TZNAME:EDT
DTSTART:20250309T070000
END:DAYLIGHT
BEGIN:STANDARD
TZOFFSETFROM:-0400
TZOFFSETTO:-0500
TZNAME:EST
DTSTART:20251102T060000
END:STANDARD
BEGIN:DAYLIGHT
TZOFFSETFROM:-0500
TZOFFSETTO:-0400
TZNAME:EDT
DTSTART:20260308T070000
END:DAYLIGHT
BEGIN:STANDARD
TZOFFSETFROM:-0400
TZOFFSETTO:-0500
TZNAME:EST
DTSTART:20261101T060000
END:STANDARD
END:VTIMEZONE
BEGIN:VEVENT
DTSTART;TZID=America/New_York:20250621T063000
DTEND;TZID=America/New_York:20250621T090000
DTSTAMP:20260425T105729
CREATED:20250618T152407Z
LAST-MODIFIED:20250618T152627Z
UID:202973-1750487400-1750496400@palmbeachroadrunners.com
SUMMARY:TurtleMan Triathlon Water Stop Duty
DESCRIPTION:PBRR Water Stop Saturday\nTurtleMan Triathlon – Bring family & friends\, this is fun! \n\n\n\n\n\n \n💦 PBRR folks – It’s time again! 💦\nEach year we are the run course water stop volunteers at the TurtleMan Triathlon. The race is this Saturday\, June 21st. We meet and serve on-course hydration to the Sprint and Super-Sprint runners. \nThe parking is easy\, we meet at the corner of A1-A and Jupiter Beach Road. Arrive before Jupiter Police closes the road for the runners – late arrivals please come in from the North on A1A Beach Rd (Think Guanabana’s and U-Tiki area)
URL:http://palmbeachroadrunners.com/event/turtleman-triathlon-water-stop-duty/
LOCATION:FL
END:VEVENT
END:VCALENDAR